BEGIN:VCALENDAR
VERSION:2.0
PRODID:-//wp-events-plugin.com//7.2.3.1//EN
BEGIN:VEVENT
UID:34@accep.org
DTSTART;TZID=Europe/Madrid:20230211T100000
DTEND;TZID=Europe/Madrid:20230211T130000
DTSTAMP:20250114T183118Z
URL:https://accep.org/events/iv-jornadas-de-trabajos-de-alumnos-accep-aefe
 ctos-del-lenguaje/
SUMMARY:IV Jornadas de trabajos de alumnos ACCEP: AEFECTOS DEL LENGUAJE
DESCRIPTION:IV Jornadas de trabajos de alumnos ACCEP: AEFECTOS DEL LENGUAJE
 \nPresentan sus trabajos:\n\n\n 	Pau Borrat "Desde el bolsillo del psicót
 ico"\n 	Montse Domingo "Esbozos de Lalangue"\n 	Florencia Franco "Presenta
 ción de un caso del CAPC de ACCEP"\n\nSábado 11 de febrero 2023 &gt\; de
  10:00 a 13:00h\nSede: Amics de la UNESCO: Carrer de Mallorca\, 207 Barcel
 ona
ATTACH;FMTTYPE=image/jpeg:https://accep.org/wp-content/uploads/2022/12/efe
 ctos-del-lenguaje-conferencia-ACCEP.jpg
CATEGORIES:Conferencia
LOCATION:https://goo.gl/maps/MhMMP1kY4WhyLMPN8
END:VEVENT
BEGIN:VTIMEZONE
TZID:Europe/Madrid
X-LIC-LOCATION:Europe/Madrid
BEGIN:STANDARD
DTSTART:20221030T020000
TZOFFSETFROM:+0200
TZOFFSETTO:+0100
TZNAME:CET
END:STANDARD
END:VTIMEZONE
END:VCALENDAR